BEGIN:VCALENDAR
VERSION:2.0
PRODID:-//FOIceland - ECPv6.15.20//NONSGML v1.0//EN
CALSCALE:GREGORIAN
METHOD:PUBLISH
X-ORIGINAL-URL:https://foiceland.com
X-WR-CALDESC:Events for FOIceland
REFRESH-INTERVAL;VALUE=DURATION:PT1H
X-Robots-Tag:noindex
X-PUBLISHED-TTL:PT1H
BEGIN:VTIMEZONE
TZID:Atlantic/Reykjavik
BEGIN:STANDARD
TZOFFSETFROM:+0000
TZOFFSETTO:+0000
TZNAME:GMT
DTSTART:20240101T000000
END:STANDARD
END:VTIMEZONE
BEGIN:VEVENT
DTSTART;TZID=Atlantic/Reykjavik:20250906T110000
DTEND;TZID=Atlantic/Reykjavik:20250907T170000
DTSTAMP:20260422T171716
CREATED:20250514T013053Z
LAST-MODIFIED:20250514T013053Z
UID:1028-1757156400-1757264400@foiceland.com
SUMMARY:NC R5 & R6 - Skien\, Norway
DESCRIPTION:
URL:https://foiceland.com/event/nc-r5-r6-skien-norway/
LOCATION:Skien\, Norway\, Sandtak\, Skien\, Norway
CATEGORIES:2025,Norwegian Championship
ATTACH;FMTTYPE=image/webp:https://foiceland.com/wp-content/uploads/2025/05/KNA-Telemark.webp
END:VEVENT
BEGIN:VEVENT
DTSTART;TZID=Atlantic/Reykjavik:20250830T100000
DTEND;TZID=Atlantic/Reykjavik:20250830T170000
DTSTAMP:20260422T171716
CREATED:20250422T002157Z
LAST-MODIFIED:20250825T201932Z
UID:324-1756548000-1756573200@foiceland.com
SUMMARY:SA Smíða Torfæran
DESCRIPTION:
URL:https://foiceland.com/event/r2-cup-tournament/
LOCATION:Stangarhylur\, Þóroddsstaðir\, Selfoss\, 805\, Iceland
CATEGORIES:2025,Cup Tournament
ATTACH;FMTTYPE=image/webp:https://foiceland.com/wp-content/uploads/2025/04/rgr5q2ft.webp
ORGANIZER;CN="Torfaeruklubburinn":MAILTO:torfaeruklubburinn@gmail.com
END:VEVENT
BEGIN:VEVENT
DTSTART;TZID=Atlantic/Reykjavik:20250816T110000
DTEND;TZID=Atlantic/Reykjavik:20250816T170000
DTSTAMP:20260422T171716
CREATED:20250422T002013Z
LAST-MODIFIED:20250825T201944Z
UID:320-1755342000-1755363600@foiceland.com
SUMMARY:Motul Torfæran
DESCRIPTION:
URL:https://foiceland.com/event/r5-icelandic-championship/
LOCATION:Akureyri\, Hlíðarfjallsvegur 13\, Akureyri\, 603\, Iceland
CATEGORIES:2025,Icelandic Championship
ATTACH;FMTTYPE=image/webp:https://foiceland.com/wp-content/uploads/2025/04/balogo.webp
ORGANIZER;CN="Bilaklubbur Akureyrar":MAILTO:ba@ba.is
END:VEVENT
BEGIN:VEVENT
DTSTART;TZID=Atlantic/Reykjavik:20250719T100000
DTEND;TZID=Atlantic/Reykjavik:20250719T170000
DTSTAMP:20260422T171716
CREATED:20250422T001847Z
LAST-MODIFIED:20250825T202011Z
UID:316-1752919200-1752944400@foiceland.com
SUMMARY:Hótel Kríu Torfæran
DESCRIPTION:
URL:https://foiceland.com/event/r4-icelandic-championship/
LOCATION:Blönudós\, Svínvetningabraut\, Blönduós\, 540\, Iceland
CATEGORIES:2025,Icelandic Championship
ATTACH;FMTTYPE=image/webp:https://foiceland.com/wp-content/uploads/2025/04/rgr5q2ft.webp
ORGANIZER;CN="Torfaeruklubburinn":MAILTO:torfaeruklubburinn@gmail.com
END:VEVENT
BEGIN:VEVENT
DTSTART;TZID=Atlantic/Reykjavik:20250628T110000
DTEND;TZID=Atlantic/Reykjavik:20250629T170000
DTSTAMP:20260422T171716
CREATED:20250514T012926Z
LAST-MODIFIED:20250514T012926Z
UID:1024-1751108400-1751216400@foiceland.com
SUMMARY:NC R3 & R4 - Matrand\, Norway
DESCRIPTION:
URL:https://foiceland.com/event/nc-r3-r4-matrand-norway/
LOCATION:Matrand\, Norway\, Ekeberget Grustak\, Matrand\, Norway
CATEGORIES:2025,Norwegian Championship
ATTACH;FMTTYPE=image/webp:https://foiceland.com/wp-content/uploads/2025/05/NMK-honefoss.webp
END:VEVENT
BEGIN:VEVENT
DTSTART;TZID=Atlantic/Reykjavik:20250628T110000
DTEND;TZID=Atlantic/Reykjavik:20250628T170000
DTSTAMP:20260422T171716
CREATED:20250422T001609Z
LAST-MODIFIED:20250422T001609Z
UID:312-1751108400-1751130000@foiceland.com
SUMMARY:R3 Icelandic Championship
DESCRIPTION:
URL:https://foiceland.com/event/r3-icelandic-championship/
LOCATION:Egilsstaðir\, Múlaþing\, Egilsstaðir\, 701\, Iceland
CATEGORIES:2025,Icelandic Championship
ATTACH;FMTTYPE=image/webp:https://foiceland.com/wp-content/uploads/2025/04/START-Logo.webp
END:VEVENT
BEGIN:VEVENT
DTSTART;TZID=Atlantic/Reykjavik:20250531T110000
DTEND;TZID=Atlantic/Reykjavik:20250601T170000
DTSTAMP:20260422T171716
CREATED:20250514T012744Z
LAST-MODIFIED:20250514T012744Z
UID:1020-1748689200-1748797200@foiceland.com
SUMMARY:NC R1 & R2 - Hønefoss\, Norway
DESCRIPTION:
URL:https://foiceland.com/event/nc-r1-r2-honefoss-norway/
LOCATION:Hønefoss\, Norway\, Heen Grustak\, Hønefoss\, Norway
CATEGORIES:2025,Norwegian Championship
ATTACH;FMTTYPE=image/webp:https://foiceland.com/wp-content/uploads/2025/05/NMK-honefoss.webp
END:VEVENT
BEGIN:VEVENT
DTSTART;TZID=Atlantic/Reykjavik:20250531T100000
DTEND;TZID=Atlantic/Reykjavik:20250531T170000
DTSTAMP:20260422T171716
CREATED:20250422T001357Z
LAST-MODIFIED:20250505T223624Z
UID:307-1748685600-1748710800@foiceland.com
SUMMARY:Vélsmiðja Suðurlands Torfæran 2025
DESCRIPTION:2 umferð Íslandsmótsins\, ásamt 1. umferð bikarmótsins í Torfæru fer fram í Stangarhyl við Laugarvatnsveg laugardaginn 31 Maí kl 10:00.Keppni hefst kl 10:00Miðaverð er 3000 kr frítt fyrir 12 ára og yngri.Áhorfendum er óheimilt að vera á vélknúnum ökutækjum við áhorfendasvæðið \n–**– \n2. round of the Icelandic Championship along with the 1st round in the Cup Tournamet will be held at Stangarhylur by Laugarvatns-road Saturday 31. May at 10:00am \nThe competition starts at 10:00am \nTickets are 3\,000 ISK but free entry for 12 year olds and younger. \nSpectators are not allowed any motorized vehicles in the spectators zone.
URL:https://foiceland.com/event/velsmidja-sudurlands-torfaera-2025/
LOCATION:Stangarhylur\, Þóroddsstaðir\, Selfoss\, 805\, Iceland
CATEGORIES:2025,Cup Tournament,Icelandic Championship
ATTACH;FMTTYPE=image/webp:https://foiceland.com/wp-content/uploads/2025/04/rgr5q2ft.webp
ORGANIZER;CN="Torfaeruklubburinn":MAILTO:torfaeruklubburinn@gmail.com
END:VEVENT
BEGIN:VEVENT
DTSTART;TZID=Atlantic/Reykjavik:20250503T100000
DTEND;TZID=Atlantic/Reykjavik:20250503T170000
DTSTAMP:20260422T171716
CREATED:20250421T234230Z
LAST-MODIFIED:20250421T234230Z
UID:283-1746266400-1746291600@foiceland.com
SUMMARY:Sindratorfæran 2025
DESCRIPTION:1st round of the 2025 Icelandic Formula Offroad Championship will be held on Hella\, May 3 2025 at 10:00 AM.Location is just outside of Hella on road no. 264. GPS: N 63° 49.807′\, W 20° 20.148′\nTickets available at the gateEntry fee is 3000 ISK per person\, free for 15 y/o and younger
URL:https://foiceland.com/event/sindratorfaeran-2025/
LOCATION:Hella\, Rangárvallavegur\, Hella\, 851\, Iceland
CATEGORIES:2025,Icelandic Championship
ATTACH;FMTTYPE=image/webp:https://foiceland.com/wp-content/uploads/2025/04/HELLA-f350-scaled.webp
ORGANIZER;CN="Flugbjorgunarsveitin Hella":MAILTO:fbsh@simnet.is
END:VEVENT
BEGIN:VEVENT
DTSTART;TZID=Atlantic/Reykjavik:20250418T100000
DTEND;TZID=Atlantic/Reykjavik:20250420T170000
DTSTAMP:20260422T171716
CREATED:20250415T212227Z
LAST-MODIFIED:20250415T212441Z
UID:134-1744970400-1745168400@foiceland.com
SUMMARY:Torfærubílasýning 2025
DESCRIPTION:60 ára afmælissýning torfærunnar á íslandi.\nSkemmtileg dagskrá alla helgina og veitingasala á staðnum!\n\nVeitingasala\nGæddu þér á dýrindis mat að hætti kjötbúrsins eða bara alíslenska vöfllu með rjóma. Einnig mun torfærubjórinn vera til sölu í fyrsta sinn! \nVarningasala\nÝmis torfæruklúbbsvarningur verður til sölu ásamt því að geta skráð sig í klúbbinn á staðnum. \nHoppukastali\nHoppukastali verður á staðnum alla helgina ef veður leyfir. \n 
URL:https://foiceland.com/event/torfaerubilasyning-2025/
LOCATION:Reiðhöllin í Víðidal\, Brekknaás 5\, Reykjavík\, 110\, 100\, Iceland
CATEGORIES:2025,Show
ATTACH;FMTTYPE=image/webp:https://foiceland.com/wp-content/uploads/2025/04/rgr5q2ft.webp
ORGANIZER;CN="Torfaeruklubburinn":MAILTO:torfaeruklubburinn@gmail.com
END:VEVENT
END:VCALENDAR