BEGIN:VCALENDAR
VERSION:2.0
PRODID:-//FOIceland - ECPv6.15.20//NONSGML v1.0//EN
CALSCALE:GREGORIAN
METHOD:PUBLISH
X-ORIGINAL-URL:https://foiceland.com
X-WR-CALDESC:Events for FOIceland
REFRESH-INTERVAL;VALUE=DURATION:PT1H
X-Robots-Tag:noindex
X-PUBLISHED-TTL:PT1H
BEGIN:VTIMEZONE
TZID:Atlantic/Reykjavik
BEGIN:STANDARD
TZOFFSETFROM:+0000
TZOFFSETTO:+0000
TZNAME:GMT
DTSTART:20250101T000000
END:STANDARD
END:VTIMEZONE
BEGIN:VEVENT
DTSTART;TZID=Atlantic/Reykjavik:20260530T110000
DTEND;TZID=Atlantic/Reykjavik:20260530T170000
DTSTAMP:20260422T135103
CREATED:20260213T230040Z
LAST-MODIFIED:20260213T230540Z
UID:1344-1780138800-1780160400@foiceland.com
SUMMARY:Stangarhylur - 2. Round IC & 1. Round CT
DESCRIPTION:
URL:https://foiceland.com/event/2-round-of-icelandic-championship-1-round-of-cup-tournament/
LOCATION:Stangarhylur\, Þóroddsstaðir\, Selfoss\, 805\, Iceland
CATEGORIES:2026,Cup Tournament,Icelandic Championship
ATTACH;FMTTYPE=image/webp:https://foiceland.com/wp-content/uploads/2025/04/rgr5q2ft.webp
ORGANIZER;CN="Torfaeruklubburinn":MAILTO:torfaeruklubburinn@gmail.com
END:VEVENT
BEGIN:VEVENT
DTSTART;TZID=Atlantic/Reykjavik:20260829T110000
DTEND;TZID=Atlantic/Reykjavik:20260829T170000
DTSTAMP:20260422T135103
CREATED:20260213T230659Z
LAST-MODIFIED:20260213T230659Z
UID:1359-1788001200-1788022800@foiceland.com
SUMMARY:Stangarhylur -  2. Round CT
DESCRIPTION:
URL:https://foiceland.com/event/stangarhylur-2-round-ct/
LOCATION:Stangarhylur\, Þóroddsstaðir\, Selfoss\, 805\, Iceland
CATEGORIES:2026,Cup Tournament
ATTACH;FMTTYPE=image/webp:https://foiceland.com/wp-content/uploads/2025/04/rgr5q2ft.webp
ORGANIZER;CN="Torfaeruklubburinn":MAILTO:torfaeruklubburinn@gmail.com
END:VEVENT
END:VCALENDAR