BEGIN:VCALENDAR
VERSION:2.0
PRODID:-//FOIceland - ECPv6.15.20//NONSGML v1.0//EN
CALSCALE:GREGORIAN
METHOD:PUBLISH
X-ORIGINAL-URL:https://foiceland.com
X-WR-CALDESC:Events for FOIceland
REFRESH-INTERVAL;VALUE=DURATION:PT1H
X-Robots-Tag:noindex
X-PUBLISHED-TTL:PT1H
BEGIN:VTIMEZONE
TZID:Atlantic/Reykjavik
BEGIN:STANDARD
TZOFFSETFROM:+0000
TZOFFSETTO:+0000
TZNAME:GMT
DTSTART:20240101T000000
END:STANDARD
END:VTIMEZONE
BEGIN:VEVENT
DTSTART;TZID=Atlantic/Reykjavik:20250830T100000
DTEND;TZID=Atlantic/Reykjavik:20250830T170000
DTSTAMP:20260422T213647
CREATED:20250422T002157Z
LAST-MODIFIED:20250825T201932Z
UID:324-1756548000-1756573200@foiceland.com
SUMMARY:SA Smíða Torfæran
DESCRIPTION:
URL:https://foiceland.com/event/r2-cup-tournament/
LOCATION:Stangarhylur\, Þóroddsstaðir\, Selfoss\, 805\, Iceland
CATEGORIES:2025,Cup Tournament
ATTACH;FMTTYPE=image/webp:https://foiceland.com/wp-content/uploads/2025/04/rgr5q2ft.webp
ORGANIZER;CN="Torfaeruklubburinn":MAILTO:torfaeruklubburinn@gmail.com
END:VEVENT
BEGIN:VEVENT
DTSTART;TZID=Atlantic/Reykjavik:20250531T100000
DTEND;TZID=Atlantic/Reykjavik:20250531T170000
DTSTAMP:20260422T213647
CREATED:20250422T001357Z
LAST-MODIFIED:20250505T223624Z
UID:307-1748685600-1748710800@foiceland.com
SUMMARY:Vélsmiðja Suðurlands Torfæran 2025
DESCRIPTION:2 umferð Íslandsmótsins\, ásamt 1. umferð bikarmótsins í Torfæru fer fram í Stangarhyl við Laugarvatnsveg laugardaginn 31 Maí kl 10:00.Keppni hefst kl 10:00Miðaverð er 3000 kr frítt fyrir 12 ára og yngri.Áhorfendum er óheimilt að vera á vélknúnum ökutækjum við áhorfendasvæðið \n–**– \n2. round of the Icelandic Championship along with the 1st round in the Cup Tournamet will be held at Stangarhylur by Laugarvatns-road Saturday 31. May at 10:00am \nThe competition starts at 10:00am \nTickets are 3\,000 ISK but free entry for 12 year olds and younger. \nSpectators are not allowed any motorized vehicles in the spectators zone.
URL:https://foiceland.com/event/velsmidja-sudurlands-torfaera-2025/
LOCATION:Stangarhylur\, Þóroddsstaðir\, Selfoss\, 805\, Iceland
CATEGORIES:2025,Cup Tournament,Icelandic Championship
ATTACH;FMTTYPE=image/webp:https://foiceland.com/wp-content/uploads/2025/04/rgr5q2ft.webp
ORGANIZER;CN="Torfaeruklubburinn":MAILTO:torfaeruklubburinn@gmail.com
END:VEVENT
END:VCALENDAR